BEGIN:VCALENDAR
VERSION:2.0
PRODID:-//Valemount Community Forest - ECPv6.2.8//NONSGML v1.0//EN
CALSCALE:GREGORIAN
METHOD:PUBLISH
X-ORIGINAL-URL:https://valemountcommunityforest.ca
X-WR-CALDESC:Events for Valemount Community Forest
REFRESH-INTERVAL;VALUE=DURATION:PT1H
X-Robots-Tag:noindex
X-PUBLISHED-TTL:PT1H
BEGIN:VTIMEZONE
TZID:America/Vancouver
BEGIN:DAYLIGHT
TZOFFSETFROM:-0800
TZOFFSETTO:-0700
TZNAME:PDT
DTSTART:20250309T100000
END:DAYLIGHT
BEGIN:STANDARD
TZOFFSETFROM:-0700
TZOFFSETTO:-0800
TZNAME:PST
DTSTART:20251102T090000
END:STANDARD
BEGIN:DAYLIGHT
TZOFFSETFROM:-0800
TZOFFSETTO:-0700
TZNAME:PDT
DTSTART:20260308T100000
END:DAYLIGHT
BEGIN:STANDARD
TZOFFSETFROM:-0700
TZOFFSETTO:-0800
TZNAME:PST
DTSTART:20261101T090000
END:STANDARD
END:VTIMEZONE
BEGIN:VEVENT
DTSTART;TZID=America/Vancouver:20250717T180000
DTEND;TZID=America/Vancouver:20250717T200000
DTSTAMP:20260425T185322
CREATED:20240530T161257Z
LAST-MODIFIED:20250625T164703Z
UID:2513-1752775200-1752782400@valemountcommunityforest.ca
SUMMARY:2025 VCF Annual General Meeting
DESCRIPTION:Join us for Valemount Community Forest’s 2025 Annual General Meeting. \nThursday July 17th. \nThe AGM begins at 6pm at the Valemount Legion\, 970 Main St. BC V0E 2Z0. \nRefreshments will be provided. \n  \n 
URL:https://valemountcommunityforest.ca/event/annual-general-meeting-vcf-and-vip/
END:VEVENT
BEGIN:VEVENT
DTSTART;VALUE=DATE:20260612
DTEND;VALUE=DATE:20260615
DTSTAMP:20260425T185322
CREATED:20260417T190832Z
LAST-MODIFIED:20260417T190832Z
UID:3259-1781222400-1781481599@valemountcommunityforest.ca
SUMMARY:Valemount Community Forest's Logging Truck Load Of Firewood Raffle June 14th\, 2026
DESCRIPTION:Purchase raffle tickets daily June 12 – 14th during Valemountain Days\nThe winner of the logging truck load of firewood will be drawn at 3pm on June 14th at the Sports Grounds. \nMore info to come.
URL:https://valemountcommunityforest.ca/event/valemount-community-forests-logging-truck-load-of-firewood-raffle-june-14th-2026/
END:VEVENT
BEGIN:VEVENT
DTSTART;TZID=America/Vancouver:20260617T180000
DTEND;TZID=America/Vancouver:20260617T200000
DTSTAMP:20260425T185322
CREATED:20260417T185551Z
LAST-MODIFIED:20260417T190106Z
UID:3261-1781719200-1781726400@valemountcommunityforest.ca
SUMMARY:VCF Annual General Meeting June 17\, 2026
DESCRIPTION:
URL:https://valemountcommunityforest.ca/event/vcf-annual-general-meeting-june-17-2026/
LOCATION:Royal Canadian Legion Brach 266\, 970 Main St\, Valemount\, BC
END:VEVENT
BEGIN:VEVENT
DTSTART;TZID=America/Vancouver:20260723T110000
DTEND;TZID=America/Vancouver:20260723T140000
DTSTAMP:20260425T185322
CREATED:20260417T190713Z
LAST-MODIFIED:20260417T191303Z
UID:3264-1784804400-1784815200@valemountcommunityforest.ca
SUMMARY:Valemount Community Forest Annual BBQ
DESCRIPTION:Join us at Centennial Park on July 23rd from 11am – 2pm\nMore info to come.
URL:https://valemountcommunityforest.ca/event/valemount-community-annual-community-bbq/
LOCATION:Centennial Park\, Dogwood at 5th Ave\, Valemount\, BC
END:VEVENT
END:VCALENDAR