BEGIN:VCALENDAR
VERSION:2.0
PRODID:-//Valemount Community Forest - ECPv6.2.8//NONSGML v1.0//EN
CALSCALE:GREGORIAN
METHOD:PUBLISH
X-WR-CALNAME:Valemount Community Forest
X-ORIGINAL-URL:https://valemountcommunityforest.ca
X-WR-CALDESC:Events for Valemount Community Forest
REFRESH-INTERVAL;VALUE=DURATION:PT1H
X-Robots-Tag:noindex
X-PUBLISHED-TTL:PT1H
BEGIN:VTIMEZONE
TZID:America/Vancouver
BEGIN:DAYLIGHT
TZOFFSETFROM:-0800
TZOFFSETTO:-0700
TZNAME:PDT
DTSTART:20220313T100000
END:DAYLIGHT
BEGIN:STANDARD
TZOFFSETFROM:-0700
TZOFFSETTO:-0800
TZNAME:PST
DTSTART:20221106T090000
END:STANDARD
END:VTIMEZONE
BEGIN:VEVENT
DTSTART;TZID=America/Vancouver:20220731T000000
DTEND;TZID=America/Vancouver:20220731T000000
DTSTAMP:20260421T183909
CREATED:20220509T192052Z
LAST-MODIFIED:20220602T230756Z
UID:1977-1659225600-1659225600@valemountcommunityforest.ca
SUMMARY:Logo Contest for the Valemount Industrial Park!
DESCRIPTION:‘Click here’ for LOGO contest guidelines VIP \nHone your creative side this summer! and win some moola too! \nYour Entry (or entries) can be submitted up until midnight July 31st 2022
URL:https://valemountcommunityforest.ca/event/logo-contest-valemount-industrial-park/
END:VEVENT
BEGIN:VEVENT
DTSTART;TZID=America/Vancouver:20220711T150000
DTEND;TZID=America/Vancouver:20220711T180000
DTSTAMP:20260421T183909
CREATED:20220606T200323Z
LAST-MODIFIED:20220606T200323Z
UID:2107-1657551600-1657562400@valemountcommunityforest.ca
SUMMARY:Reg Board meeting VCF and VIP
DESCRIPTION:
URL:https://valemountcommunityforest.ca/event/reg-board-meeting-vcf-and-vip/
END:VEVENT
BEGIN:VEVENT
DTSTART;TZID=America/Vancouver:20220606T150000
DTEND;TZID=America/Vancouver:20220606T180000
DTSTAMP:20260421T183909
CREATED:20220505T200414Z
LAST-MODIFIED:20220505T200432Z
UID:1937-1654527600-1654538400@valemountcommunityforest.ca
SUMMARY:Reg Board Meetings June
DESCRIPTION:
URL:https://valemountcommunityforest.ca/event/reg-board-meetings-june/
END:VEVENT
BEGIN:VEVENT
DTSTART;TZID=America/Vancouver:20220531T163000
DTEND;TZID=America/Vancouver:20220531T200000
DTSTAMP:20260421T183909
CREATED:20220412T223222Z
LAST-MODIFIED:20220525T174050Z
UID:1900-1654014600-1654027200@valemountcommunityforest.ca
SUMMARY:Annual General Meetings VCF & VIP
DESCRIPTION:Details for Tour of VIP and sawmill \nAGMs and Sawmill Tour  \nClick on link above
URL:https://valemountcommunityforest.ca/event/annual-general-meetings-vcf-vip/
END:VEVENT
BEGIN:VEVENT
DTSTART;TZID=America/Vancouver:20220514T100000
DTEND;TZID=America/Vancouver:20220514T140000
DTSTAMP:20260421T183909
CREATED:20220505T192249Z
LAST-MODIFIED:20220505T192956Z
UID:1917-1652522400-1652536800@valemountcommunityforest.ca
SUMMARY:YARD SALE! CANTS 4x4\,6x6\,8x8\,4x6 rough & random cut
DESCRIPTION:Valemount Industrial Park Yard sale
URL:https://valemountcommunityforest.ca/event/1917/
END:VEVENT
BEGIN:VEVENT
DTSTART;TZID=America/Vancouver:20220502T150000
DTEND;TZID=America/Vancouver:20220502T180000
DTSTAMP:20260421T183909
CREATED:20220407T160540Z
LAST-MODIFIED:20220407T160540Z
UID:1873-1651503600-1651514400@valemountcommunityforest.ca
SUMMARY:Regular Board Meetings VCF and VIP
DESCRIPTION:
URL:https://valemountcommunityforest.ca/event/regular-board-meetings-vcf-and-vip/
END:VEVENT
BEGIN:VEVENT
DTSTART;TZID=America/Vancouver:20220413T100000
DTEND;TZID=America/Vancouver:20220413T133000
DTSTAMP:20260421T183909
CREATED:20220407T155135Z
LAST-MODIFIED:20220407T155346Z
UID:1857-1649844000-1649856600@valemountcommunityforest.ca
SUMMARY:Valemount Elementary School\, Cranberry Marsh Walk
DESCRIPTION:Environmental Stewardship
URL:https://valemountcommunityforest.ca/event/regular-board-meeting-public-welcome/
END:VEVENT
BEGIN:VEVENT
DTSTART;TZID=America/Vancouver:20220407T080000
DTEND;TZID=America/Vancouver:20220407T170000
DTSTAMP:20260421T183909
CREATED:20220407T160750Z
LAST-MODIFIED:20220407T160750Z
UID:1872-1649318400-1649350800@valemountcommunityforest.ca
SUMMARY:Logo Contest for Valemount Industrial Park: details and deadline to be announced
DESCRIPTION:
URL:https://valemountcommunityforest.ca/event/logo-contest-for-valemount-industrial-park-details-and-deadline-to-be-announced/
END:VEVENT
BEGIN:VEVENT
DTSTART;TZID=America/Vancouver:20220407T080000
DTEND;TZID=America/Vancouver:20220407T170000
DTSTAMP:20260421T183909
CREATED:20220407T155443Z
LAST-MODIFIED:20220407T155759Z
UID:1862-1649318400-1649350800@valemountcommunityforest.ca
SUMMARY:Name for sawmill Contest; date and deadline to be announced
DESCRIPTION:
URL:https://valemountcommunityforest.ca/event/annual-general-meetings-date-to-be-announced-for-may-2022/
END:VEVENT
END:VCALENDAR